BEGIN:VCALENDAR
VERSION:2.0
PRODID:-//3nity.com//3nity CMS//EN
BEGIN:VEVENT
SUMMARY:Fathers Day Celebration
UID:2026-07-18-1216033@www.nccfalbany.com
SEQUENCE:0
STATUS:CONFIRMED
DTSTART:20260621T110000
DTEND:20260621T140000
DTSTAMP:20161222T120000
DESCRIPTION:Join us as we celebrate Father's Day! We will be honoring several faithful, devoted, and steadfast fathers who exemplify what it means to be strong, loving, and spirit-led men of God, as well as dedicated and nurturing fathers.
URL:http://www.nccfalbany.com
END:VEVENT
END:VCALENDAR
